BEGIN:VCALENDAR
VERSION:2.0
PRODID:-//ChamberMaster//Event Calendar 2.0//EN
METHOD:PUBLISH
X-PUBLISHED-TTL:P3D
REFRESH-INTERVAL:P3D
CALSCALE:GREGORIAN
BEGIN:VEVENT
DTSTART:20231005T180000Z
DTEND:20231005T190000Z
X-MICROSOFT-CDO-ALLDAYEVENT:FALSE
SUMMARY:CVCC Small Business Center: ABC's of Starting a Small Business on a Limited Budget 10-5-2023
DESCRIPTION:ABCs of Starting a Small Business on a Limited Budget These are the ABCs of how to start a small business combined with winning strategies from low-cost startups. ABCs Starting a Small Business on a Limited Budget is easier now than it has ever been. In these challenging times everyone from the government to your local banker is trying to help you succeed.
X-ALT-DESC;FMTTYPE=text/html:ABCs of Starting a Small Business on a Limited Budget&hellip\;These are the ABCs of how to start a small business combined with winning strategies from low-cost startups. ABCs Starting a Small Business on a Limited Budget is easier now than it has ever been. In these challenging times everyone from the government to your local banker is trying to help you succeed.
LOCATION:Online Webinar
UID:e.685.8462
SEQUENCE:3
DTSTAMP:20260423T142252Z
URL:http://members.catawbachamber.org/events/details/cvcc-small-business-center-abc-s-of-starting-a-small-business-on-a-limited-budget-10-5-2023-8462
END:VEVENT

END:VCALENDAR
