BEGIN:VCALENDAR
VERSION:2.0
PRODID:-//ChamberMaster//Event Calendar 2.0//EN
METHOD:PUBLISH
X-PUBLISHED-TTL:P3D
REFRESH-INTERVAL:P3D
CALSCALE:GREGORIAN
BEGIN:VEVENT
DTSTART:20231024T220000Z
DTEND:20231025T000000Z
X-MICROSOFT-CDO-ALLDAYEVENT:FALSE
SUMMARY:CVCC Small Business Center: Basics of Bookkeeping 10-24-2023
DESCRIPTION:Get answers to basic bookkeeping questions. New and prospective business owners will learn about accrual and cash basis accounting\, what are expenses and revenues\, manual and software bookkeeping options\, outsourcing\, and what your business actually needs when it comes to bookkeeping.
X-ALT-DESC;FMTTYPE=text/html:Get answers to basic bookkeeping questions. New and prospective business owners will learn about accrual and cash basis accounting\, what are expenses and revenues\, manual and software bookkeeping options\, outsourcing\, and what your business actually needs when it comes to bookkeeping.
LOCATION:Online Webinar
UID:e.685.8473
SEQUENCE:3
DTSTAMP:20260423T141139Z
URL:http://members.catawbachamber.org/events/details/cvcc-small-business-center-basics-of-bookkeeping-10-24-2023-10-24-2023-8473
END:VEVENT

END:VCALENDAR
