BEGIN:VCALENDAR
VERSION:2.0
PRODID:-//ChamberMaster//Event Calendar 2.0//EN
METHOD:PUBLISH
X-PUBLISHED-TTL:P3D
REFRESH-INTERVAL:P3D
CALSCALE:GREGORIAN
BEGIN:VEVENT
DTSTART:20231019T223000Z
DTEND:20231019T233000Z
X-MICROSOFT-CDO-ALLDAYEVENT:FALSE
SUMMARY:CVCC Small Business Center: Dynamite Marketing on a Firecracker Budget for Small Businesses 10-19-2023
DESCRIPTION:Dynamite Marketing On a Firecracker Budget for Small Businesses  There has never been a time that is as easy and economical to do great marketing! In Dynamite Marketing On a Firecracker Budget for Small Businesses\, you will discover 50+ successful ways to market your business and easily reach customers.
X-ALT-DESC;FMTTYPE=text/html:Dynamite Marketing On a Firecracker Budget for Small Businesses&hellip\; There has never been a time that is as easy and economical to do great marketing! In Dynamite Marketing On a Firecracker Budget for Small Businesses\, you will discover 50+ successful ways to market your business and easily reach customers.
LOCATION:Online Webinar
UID:e.685.8471
SEQUENCE:3
DTSTAMP:20260423T143414Z
URL:http://members.catawbachamber.org/events/details/cvcc-small-business-center-dynamite-marketing-on-a-firecracker-budget-for-small-businesses-10-19-2023-8471
END:VEVENT

END:VCALENDAR
