BEGIN:VCALENDAR
VERSION:2.0
PRODID:-//ChamberMaster//Event Calendar 2.0//EN
METHOD:PUBLISH
X-PUBLISHED-TTL:P3D
REFRESH-INTERVAL:P3D
CALSCALE:GREGORIAN
BEGIN:VEVENT
DTSTART:20231023T150000Z
DTEND:20231023T170000Z
X-MICROSOFT-CDO-ALLDAYEVENT:FALSE
SUMMARY:CVCC Small Business Center: Facebook Shops and Facebook Marketplace 10-23-2023
DESCRIPTION:Facebook Shops: If you want to be successful\, you can't sit back and wait for customers to come to you   reach out to them. So where are they? Facebook. Facebook has more than 1.1 billion people logging in daily to spend an average of 1 hour on the platform. That's insane. If you sell products online and you don't have a Facebook shop\, you're missing a huge opportunity. Let me show you just how easy it is to "Sell to the World" for free. What is Facebook Marketplace? Marketplace is an easy\, convenient way to market your small business and sell in your local area. Customers can look through your listings or search for items near them to find great things to buy. Why should I use Facebook Shops & Marketplace? You can list items for free and find new customers directly within Facebook. You don't have to download another app or set up a new account. Reach thousands of people in your local community and increase your sales.
X-ALT-DESC;FMTTYPE=text/html:Facebook Shops: If you want to be successful\, you can&rsquo\;t sit back and wait for customers to come to you &ndash\; reach out to them. So where are they? Facebook. Facebook has more than 1.1 billion people logging in daily to spend an average of 1 hour on the platform. That&rsquo\;s insane. If you sell products online and you don&rsquo\;t have a Facebook shop\, you&rsquo\;re missing a huge opportunity. Let me show you just how easy it is to &ldquo\;Sell to the World&rdquo\; for free. What is Facebook Marketplace? Marketplace is an easy\, convenient way to market your small business and sell in your local area. Customers can look through your listings or search for items near them to find great things to buy. Why should I use Facebook Shops &amp\; Marketplace? You can list items for free and find new customers directly within Facebook. You don&#39\;t have to download another app or set up a new account. Reach thousands of people in your local community and increase your sales.
LOCATION:Online Webinar
UID:e.685.8472
SEQUENCE:3
DTSTAMP:20260423T124130Z
URL:http://members.catawbachamber.org/events/details/cvcc-small-business-center-facebook-shops-and-facebook-marketplace-10-23-2023-8472
END:VEVENT

END:VCALENDAR
