BEGIN:VCALENDAR
VERSION:2.0
PRODID:-//ChamberMaster//Event Calendar 2.0//EN
METHOD:PUBLISH
X-PUBLISHED-TTL:P3D
REFRESH-INTERVAL:P3D
CALSCALE:GREGORIAN
BEGIN:VEVENT
DTSTART:20231012T180000Z
DTEND:20231012T190000Z
X-MICROSOFT-CDO-ALLDAYEVENT:FALSE
SUMMARY:CVCC Small Business Center: Finding Your Customer and Creating a Marketing Plan 10-12-23
DESCRIPTION:Finding Your Customer and Creating a Marketing Plan Just because you have an idea doesn't mean anyone will buy it. In Finding Your Customer and Creating a Marketing Plan\, there are four ways to describe your customer and sources to find out how many there are in your market area. The program features five ways to create a winning plan to target them.
X-ALT-DESC;FMTTYPE=text/html:Finding Your Customer and Creating a Marketing Plan&hellip\;Just because you have an idea doesn&rsquo\;t mean anyone will buy it. In Finding Your Customer and Creating a Marketing Plan\, there are four ways to describe your customer and sources to find out how many there are in your market area. The program features five ways to create a winning plan to target them.
LOCATION:Online Webinar
UID:e.685.8466
SEQUENCE:3
DTSTAMP:20260423T141936Z
URL:http://members.catawbachamber.org/events/details/cvcc-small-business-center-finding-your-customer-and-creating-a-marketing-plan-10-12-23-8466
END:VEVENT

END:VCALENDAR
