BEGIN:VCALENDAR
VERSION:2.0
PRODID:-//ChamberMaster//Event Calendar 2.0//EN
METHOD:PUBLISH
X-PUBLISHED-TTL:P3D
REFRESH-INTERVAL:P3D
CALSCALE:GREGORIAN
BEGIN:VEVENT
DTSTART:20230911T180000Z
DTEND:20230911T193000Z
X-MICROSOFT-CDO-ALLDAYEVENT:FALSE
SUMMARY:CVCC Small Business Center: New Social Media Platforms to Drive Engagement 9-11-2023
DESCRIPTION:It seems like every day we see a new social media platform popping up. Come to this seminar to learn the differences between them and how you can leverage these sites to build and grow your business. We will discuss Snapchat\, TikTok\, Clubhouse\, and several others. Learn why\, how\, and what you need to know in order to make an impact in your business.
X-ALT-DESC;FMTTYPE=text/html:It seems like every day we see a new social media platform popping up. Come to this seminar to learn the differences between them and how you can leverage these sites to build and grow your business. We will discuss Snapchat\, TikTok\, Clubhouse\, and several others. Learn why\, how\, and what you need to know in order to make an impact in your business.
LOCATION:Online Webinar
UID:e.685.8450
SEQUENCE:3
DTSTAMP:20260423T142226Z
URL:http://members.catawbachamber.org/events/details/cvcc-small-business-center-new-social-media-platforms-to-drive-engagement-9-11-2023-8450
END:VEVENT

END:VCALENDAR
