BEGIN:VCALENDAR
VERSION:2.0
PRODID:-//ChamberMaster//Event Calendar 2.0//EN
METHOD:PUBLISH
X-PUBLISHED-TTL:P3D
REFRESH-INTERVAL:P3D
CALSCALE:GREGORIAN
BEGIN:VEVENT
DTSTART:20230912T220000Z
DTEND:20230913T000000Z
X-MICROSOFT-CDO-ALLDAYEVENT:FALSE
SUMMARY:CVCC Small Business Center: Personalized Guidance on Using LinkedIn as a Business Tool 9-12-2023
DESCRIPTION:In this in-person program\, we will discuss best practices for building a Professional LinkedIn Profile and the tactics you can use when Engaging and Sharing content on LinkedIn that can build your Professional Brand. You will leave this session with tips on defining your target audience and the words you should be using in your LinkedIn Profile that resonate with them. We will show you the unique Profile sections you should consider using\, and tips on the best use of these sections. You will also take away best practices\, tips\, and tricks for sharing content on LinkedIn and most importantly how to get into real conversations on LinkedIn which can have a big impact on the number of LinkedIn Profile views you receive each week. The goal of this session is to give you actionable ideas you can immediately begin using to create real value using LinkedIn as a Business Tool. This session will be led by Teddy Burriss\, a 13+ yr professional teacher of LinkedIn as a Business Tool.
X-ALT-DESC;FMTTYPE=text/html:In this in-person program\, we will discuss best practices for building a Professional LinkedIn Profile and the tactics you can use when Engaging and Sharing content on LinkedIn that can build your Professional Brand. You will leave this session with tips on defining your target audience and the words you should be using in your LinkedIn Profile that resonate with them. We will show you the unique Profile sections you should consider using\, and tips on the best use of these sections. You will also take away best practices\, tips\, and tricks for sharing content on LinkedIn and most importantly how to get into real conversations on LinkedIn which can have a big impact on the number of LinkedIn Profile views you receive each week. The goal of this session is to give you actionable ideas you can immediately begin using to create real value using LinkedIn as a Business Tool. This session will be led by Teddy Burriss\, a 13+ yr professional teacher of LinkedIn as a Business Tool.
LOCATION:Hickory Hub Co-Working Space
UID:e.685.8451
SEQUENCE:3
DTSTAMP:20260423T143235Z
URL:http://members.catawbachamber.org/events/details/cvcc-small-business-center-personalized-guidance-on-using-linkedin-as-a-business-tool-9-12-2023-8451
END:VEVENT

END:VCALENDAR
