BEGIN:VCALENDAR
VERSION:2.0
PRODID:-//ChamberMaster//Event Calendar 2.0//EN
METHOD:PUBLISH
X-PUBLISHED-TTL:P3D
REFRESH-INTERVAL:P3D
CALSCALE:GREGORIAN
BEGIN:VEVENT
DTSTART:20230828T160000Z
DTEND:20230828T180000Z
X-MICROSOFT-CDO-ALLDAYEVENT:FALSE
SUMMARY:CVCC Small Business Center: Registering Trademarks and Protecting Brands 8-28-2023
DESCRIPTION:A Trademark is a form of intellectual property\, which can be defined as intangible asset\, in other words\, creation of the mind. This session will review what a trademark is\, in addition share with you how you can protect your brand.
X-ALT-DESC;FMTTYPE=text/html:A Trademark is a form of intellectual property\, which can be defined as intangible asset\, in other words\, creation of the mind. This session will review what a trademark is\, in addition share with you how you can protect your brand.
LOCATION:Manufacturing Solutions Center - Large Meeting Room
UID:e.685.8442
SEQUENCE:3
DTSTAMP:20260423T160544Z
URL:http://members.catawbachamber.org/events/details/cvcc-small-business-center-registering-trademarks-and-protecting-brands-8-28-2023-8442
END:VEVENT

END:VCALENDAR
