BEGIN:VCALENDAR
VERSION:2.0
PRODID:-//ChamberMaster//Event Calendar 2.0//EN
METHOD:PUBLISH
X-PUBLISHED-TTL:P3D
REFRESH-INTERVAL:P3D
CALSCALE:GREGORIAN
BEGIN:VEVENT
DTSTART:20230921T153000Z
DTEND:20230921T173000Z
X-MICROSOFT-CDO-ALLDAYEVENT:FALSE
SUMMARY:CVCC Small Business Center: Selling Made Simple 9-21-2023
DESCRIPTION:Experiences matter. It's not what the brand offers\, its what the customer buys - both are not perceived to be equal. During this session\, you will learn how customers perceive products and services\, learn their expectations\, and how your product could improve their quality of life.
X-ALT-DESC;FMTTYPE=text/html:Experiences matter. It&#39\;s not what the brand offers\, its what the customer buys - both are not perceived to be equal. During this session\, you will learn how customers perceive products and services\, learn their expectations\, and how your product could improve their quality of life.
LOCATION:Online Webinar
UID:e.685.8456
SEQUENCE:3
DTSTAMP:20260423T142034Z
URL:http://members.catawbachamber.org/events/details/cvcc-small-business-center-selling-made-simple-9-21-2023-8456
END:VEVENT

END:VCALENDAR
