BEGIN:VCALENDAR
VERSION:2.0
PRODID:-//ChamberMaster//Event Calendar 2.0//EN
METHOD:PUBLISH
X-PUBLISHED-TTL:P3D
REFRESH-INTERVAL:P3D
CALSCALE:GREGORIAN
BEGIN:VEVENT
DTSTART:20231016T150000Z
DTEND:20231016T170000Z
X-MICROSOFT-CDO-ALLDAYEVENT:FALSE
SUMMARY:CVCC Small Business Center: Selling on Shopify 10-16-2023
DESCRIPTION:Whether you sell online\, on social media\, in store\, or out of the trunk of your car\, Shopify has you covered. Your brand\, your way. No design skills needed. Establish your brand online with a custom domain name and online store. With instant access to hundreds of the best looking themes\, and complete control over the look and feel\, you finally have a gorgeous store of your own that reflects the personality of your business. Everything in one place. Selling your products in many places should be every bit as simple as selling in one. With Shopify's Ecommerce software\, you get one unified platform to run your business with ease. - Fully customize your store - Add new sales channels like Facebook\, Amazon\, eBay\, and Instagram - Manage unlimited products and inventory - Track sales and growth trends
X-ALT-DESC;FMTTYPE=text/html:Whether you sell online\, on social media\, in store\, or out of the trunk of your car\, Shopify has you covered. Your brand\, your way. No design skills needed. Establish your brand online with a custom domain name and online store. With instant access to hundreds of the best looking themes\, and complete control over the look and feel\, you finally have a gorgeous store of your own that reflects the personality of your business. Everything in one place. Selling your products in many places should be every bit as simple as selling in one. With Shopify&#39\;s Ecommerce software\, you get one unified platform to run your business with ease. - Fully customize your store - Add new sales channels like Facebook\, Amazon\, eBay\, and Instagram - Manage unlimited products and inventory - Track sales and growth trends
LOCATION:Online Webinar
UID:e.685.8468
SEQUENCE:3
DTSTAMP:20260423T124048Z
URL:http://members.catawbachamber.org/events/details/cvcc-small-business-center-selling-on-shopify-10-16-2023-8468
END:VEVENT

END:VCALENDAR
