BEGIN:VCALENDAR
VERSION:2.0
PRODID:-//ChamberMaster//Event Calendar 2.0//EN
METHOD:PUBLISH
X-PUBLISHED-TTL:P3D
REFRESH-INTERVAL:P3D
CALSCALE:GREGORIAN
BEGIN:VEVENT
DTSTART:20231017T210000Z
DTEND:20231017T230000Z
X-MICROSOFT-CDO-ALLDAYEVENT:FALSE
SUMMARY:CVCC Small Business Center: Small Business Tax Essentials 10-17-2023
DESCRIPTION:Learn what is required of the small business owner when filing taxes\, what tax dates are important\, and what records should be kept\, and the actual process of filing. Learn what triggers tax audits and steps to take in order to prevent or survive an audit.
X-ALT-DESC;FMTTYPE=text/html:Learn what is required of the small business owner when filing taxes\, what tax dates are important\, and what records should be kept\, and the actual process of filing. Learn what triggers tax audits and steps to take in order to prevent or survive an audit.
LOCATION:Online Webinar
UID:e.685.8469
SEQUENCE:3
DTSTAMP:20260423T142156Z
URL:http://members.catawbachamber.org/events/details/cvcc-small-business-center-small-business-tax-essentials-10-17-2023-8469
END:VEVENT

END:VCALENDAR
