BEGIN:VCALENDAR
VERSION:2.0
PRODID:-//ChamberMaster//Event Calendar 2.0//EN
METHOD:PUBLISH
X-PUBLISHED-TTL:P3D
REFRESH-INTERVAL:P3D
CALSCALE:GREGORIAN
BEGIN:VEVENT
DTSTART:20231030T150000Z
DTEND:20231030T170000Z
X-MICROSOFT-CDO-ALLDAYEVENT:FALSE
SUMMARY:CVCC Small Business Center: Successful Sales on Amazon 10-30-2023
DESCRIPTION:Amazon is the leading e-commerce website in the United States with more than $514 billion dollars in 2022 net sales. Amazon has more than 350 million active customer accounts worldwide. In this fast paced class you'll learn How the secrets of Amazon's Search Algorithm\, how to register & choose the account that fits your goals\, and list an item on Amazon for free to maximize your profitability. You'll learn how to ship your items or let Amazon ship them for you with "Fulfillment by Amazon" (FBA) shipping services. Learn how to make the most money with every sale. Amazon is the fastest way to start selling online. Sell just a few items and pay no monthly fee with the Individual plan or choose the Small Business subscription for unlimited selling.
X-ALT-DESC;FMTTYPE=text/html:Amazon is the leading e-commerce website in the United States with more than $514 billion dollars in 2022 net sales. Amazon has more than 350 million active customer accounts worldwide. In this fast paced class you&rsquo\;ll learn How the secrets of Amazon&#39\;s Search Algorithm\, how to register &amp\; choose the account that fits your goals\, and list an item on Amazon for free to maximize your profitability. You&rsquo\;ll learn how to ship your items or let Amazon ship them for you with &quot\;Fulfillment by Amazon&quot\; (FBA) shipping services. Learn how to make the most money with every sale. Amazon is the fastest way to start selling online. Sell just a few items and pay no monthly fee with the Individual plan or choose the Small Business subscription for unlimited selling.
LOCATION:Online Webinar
UID:e.685.8478
SEQUENCE:3
DTSTAMP:20260423T141835Z
URL:http://members.catawbachamber.org/events/details/cvcc-small-business-center-successful-sales-on-amazon-10-30-2023-8478
END:VEVENT

END:VCALENDAR
