BEGIN:VCALENDAR
VERSION:2.0
PRODID:-//ChamberMaster//Event Calendar 2.0//EN
METHOD:PUBLISH
X-PUBLISHED-TTL:P3D
REFRESH-INTERVAL:P3D
CALSCALE:GREGORIAN
BEGIN:VEVENT
DTSTART:20231026T180000Z
DTEND:20231026T190000Z
X-MICROSOFT-CDO-ALLDAYEVENT:FALSE
SUMMARY:CVCC Small Business Center: The Treasure Chest: Finding the Funds to Finance Your Small Business 10-26-2023
DESCRIPTION:The Treasure Chest: Finding the Funds to Finance Your Small Business How to find the funds to create your business. If you have a great idea\, the money is out there somewhere. From coins-in-the-couch to loans\, grants and Go Fund Me pages\, Financing Your Small Business shows the rainbow of funding sources.
X-ALT-DESC;FMTTYPE=text/html:The Treasure Chest: Finding the Funds to Finance Your Small Business&hellip\;How to find the funds to create your business. If you have a great idea\, the money is out there somewhere. From coins-in-the-couch to loans\, grants and Go Fund Me pages\, Financing Your Small Business shows the rainbow of funding sources.
LOCATION:Online Webinar
UID:e.685.8476
SEQUENCE:3
DTSTAMP:20260423T142317Z
URL:http://members.catawbachamber.org/events/details/cvcc-small-business-center-the-treasure-chest-finding-the-funds-to-finance-your-small-business-10-26-2023-10-26-2023-8476
END:VEVENT

END:VCALENDAR
