BEGIN:VCALENDAR
VERSION:2.0
PRODID:-//ChamberMaster//Event Calendar 2.0//EN
METHOD:PUBLISH
X-PUBLISHED-TTL:P3D
REFRESH-INTERVAL:P3D
CALSCALE:GREGORIAN
BEGIN:VEVENT
DTSTART:20230918T180000Z
DTEND:20230918T193000Z
X-MICROSOFT-CDO-ALLDAYEVENT:FALSE
SUMMARY:CVCC Small Business Center: Tips for Using Facebook to Build Your Business 9-18-2023
DESCRIPTION:In this webinar\, participants will learn the basics of setting up a Facebook business page as well as information about promotions\, advertisements\, and making a huge impact for your business online.
X-ALT-DESC;FMTTYPE=text/html:In this webinar\, participants will learn the basics of setting up a Facebook business page as well as information about promotions\, advertisements\, and making a huge impact for your business online.
LOCATION:Online Webinar
UID:e.685.8454
SEQUENCE:3
DTSTAMP:20260423T142101Z
URL:http://members.catawbachamber.org/events/details/cvcc-small-business-center-tips-for-using-facebook-to-build-your-business-9-18-2023-8454
END:VEVENT

END:VCALENDAR
