BEGIN:VCALENDAR
VERSION:2.0
PRODID:-//ChamberMaster//Event Calendar 2.0//EN
METHOD:PUBLISH
X-PUBLISHED-TTL:P3D
REFRESH-INTERVAL:P3D
CALSCALE:GREGORIAN
BEGIN:VEVENT
DTSTART:20230208T163000Z
DTEND:20230208T183000Z
X-MICROSOFT-CDO-ALLDAYEVENT:FALSE
SUMMARY:CVCC Small Business Center: Using Instagram to Grow Your Business (online webinar) - 2/8/23
DESCRIPTION:Instagram is one of the fastest growing social media platforms where you paint a picture of your business with photos and videos. Learn how to use this platform in connection with Facebook to grow your business to great heights.
X-ALT-DESC;FMTTYPE=text/html:Instagram is one of the fastest growing social media platforms where you paint a picture of your business with photos and videos. Learn how to use this platform in connection with Facebook to grow your business to great heights.
LOCATION:Register online: https://www.ncsbc.net/workshop.aspx?ekey=100430012
UID:e.685.7656
SEQUENCE:3
DTSTAMP:20260421T213536Z
URL:http://members.catawbachamber.org/events/details/cvcc-small-business-center-using-instagram-to-grow-your-business-online-webinar-2-8-23-7656
END:VEVENT

END:VCALENDAR
