BEGIN:VCALENDAR
VERSION:2.0
PRODID:-//ChamberMaster//Event Calendar 2.0//EN
METHOD:PUBLISH
X-PUBLISHED-TTL:P3D
REFRESH-INTERVAL:P3D
CALSCALE:GREGORIAN
BEGIN:VEVENT
DTSTART:20231010T220000Z
DTEND:20231010T233000Z
X-MICROSOFT-CDO-ALLDAYEVENT:FALSE
SUMMARY:CVCC Small Business Center: Validating Your Business Idea 10-10-23
DESCRIPTION:Hope is not a strategy\, and assumptions make for a risky foundation to your business. Predict how your business will function on paper before you invest all your time\, money\, and effort. A robust business model will allow you to adjust all the variables until you have an efficient virtual operation. Then challenge your assumptions by speaking to the people whose opinions matter most. Learn your customer's expectations\, priorities\, and buying behaviors. Is your business set up for success? Let's find out.\n\nSpeaker(s): Erich Schlenker\, Transportation Insight Center for Entrepreneurship
X-ALT-DESC;FMTTYPE=text/html:<p><span style="font-size:14px\;"><span style="font-family:arial\;">Hope is not a strategy\, and assumptions make for a risky foundation to your business. Predict how your business will function on paper before you invest all your time\, money\, and effort. A robust business model will allow you to adjust all the variables until you have an efficient virtual operation. Then challenge your assumptions by speaking to the people whose opinions matter most. Learn your customer&#39\;s expectations\, priorities\, and buying behaviors. Is your business set up for success? Let&#39\;s find out.</span></span></p>\n\n<p><span style="font-size:14px\;"><span style="font-family:arial\;">Speaker(s): Erich Schlenker\, Transportation Insight Center for Entrepreneurship</span></span></p>\n
LOCATION:Webinar
UID:e.685.8637
SEQUENCE:3
DTSTAMP:20260423T141957Z
URL:http://members.catawbachamber.org/events/details/cvcc-small-business-center-validating-your-business-idea-10-10-23-8637
END:VEVENT

END:VCALENDAR
