BEGIN:VCALENDAR
VERSION:2.0
PRODID:-//ChamberMaster//Event Calendar 2.0//EN
METHOD:PUBLISH
X-PUBLISHED-TTL:P3D
REFRESH-INTERVAL:P3D
CALSCALE:GREGORIAN
BEGIN:VEVENT
DTSTART:20230820T200000Z
DTEND:20230820T230000Z
X-MICROSOFT-CDO-ALLDAYEVENT:FALSE
SUMMARY:Hart Square Foundation hosts Community Contra Dance 8-20-2023
DESCRIPTION:Join us at the Sigmon Family Education Center for a community contra dance.  This type of dancing is similar to square dancing\, but it is done in long lines instead of a square.  No experience or dance partner required!  Each dance is taught by a caller before it is danced and then repeated while the dance is happening. This event is in partnership with the Hickory Music Factory String Band.
X-ALT-DESC;FMTTYPE=text/html:<span style="font-size:14px\;"><span style="font-family:arial\;">Join us at the Sigmon Family Education Center for a community contra dance.&nbsp\; This type of dancing is similar to square dancing\, but it is done in long lines instead of a square.&nbsp\; No experience or dance partner required!&nbsp\; Each dance is taught by a caller before it is danced and then repeated while the dance is happening. This event is in partnership with the Hickory Music Factory String Band.</span></span>
LOCATION:Hart Square Village 5055 Hope Road Vale\, NC 28168
UID:e.685.8424
SEQUENCE:3
DTSTAMP:20260423T222159Z
URL:http://members.catawbachamber.org/events/details/hart-square-foundation-hosts-community-contra-dance-8-20-2023-8424
END:VEVENT

END:VCALENDAR
