BEGIN:VCALENDAR
VERSION:2.0
PRODID:-//ChamberMaster//Event Calendar 2.0//EN
METHOD:PUBLISH
X-PUBLISHED-TTL:P3D
REFRESH-INTERVAL:P3D
CALSCALE:GREGORIAN
BEGIN:VEVENT
DTSTART:20221204T210000Z
DTEND:20221205T010000Z
X-MICROSOFT-CDO-ALLDAYEVENT:FALSE
SUMMARY:Hart Square Village hosts Christmas in the Village 12-4-2022
DESCRIPTION:Experience the magic of a pioneer Christmas! Walk through the nation's largest log cabin museum by lantern light. Guests will be invited inside to interact with historic interpreters and artisans demonstrating yuletide traditions of early America. See everything from candle making to wreath making and stocking sewing. Church services will be taking place in our historic chapel throughout the event. Enjoy samples of Brunswick stew\, vegetable stew\, apple cider\, fire-roasted chestnuts\, and open hearth cooking
X-ALT-DESC;FMTTYPE=text/html:<span style="font-size:14px\;"><span style="font-family:arial\;"><span style="background-color: rgb(255\, 255\, 255)\; color: rgb(51\, 51\, 51)\;">Experience the magic of a pioneer Christmas! Walk through the nation&#39\;s largest log cabin museum by lantern light. Guests will be invited inside to interact with historic interpreters and artisans demonstrating yuletide traditions of early America. See everything from candle making to wreath making and stocking sewing. Church services will be taking place in our historic chapel throughout the event. Enjoy samples of Brunswick stew\, vegetable stew\, apple cider\, fire-roasted chestnuts\, and open hearth cooking</span></span></span>
LOCATION:Hart Square Village 5055 Hope Road Vale\, NC 28168
UID:e.685.7538
SEQUENCE:3
DTSTAMP:20260422T174313Z
URL:http://members.catawbachamber.org/events/details/hart-square-village-hosts-christmas-in-the-village-12-4-2022-7538
END:VEVENT

END:VCALENDAR
