BEGIN:VCALENDAR
VERSION:2.0
PRODID:-//ChamberMaster//Event Calendar 2.0//EN
METHOD:PUBLISH
X-PUBLISHED-TTL:P3D
REFRESH-INTERVAL:P3D
CALSCALE:GREGORIAN
BEGIN:VEVENT
DTSTART:20231021T160000Z
DTEND:20231021T210000Z
X-MICROSOFT-CDO-ALLDAYEVENT:FALSE
SUMMARY:Hickory NAACP hosts Golf Tournament
DESCRIPTION:This fundraiser will benefit educational and scholarship programs of the NAACP
X-ALT-DESC;FMTTYPE=text/html:This fundraiser will benefit educational and scholarship programs of the NAACP
LOCATION:Brushy Mountain Golf Course 300 Golf Course Lane Taylorsville\, NC 28681
UID:e.685.8638
SEQUENCE:3
DTSTAMP:20260423T145235Z
URL:http://members.catawbachamber.org/events/details/hickory-naacp-hosts-golf-tournament-8638
END:VEVENT

END:VCALENDAR
