BEGIN:VCALENDAR
VERSION:2.0
PRODID:-//ChamberMaster//Event Calendar 2.0//EN
METHOD:PUBLISH
X-PUBLISHED-TTL:P3D
REFRESH-INTERVAL:P3D
CALSCALE:GREGORIAN
BEGIN:VEVENT
DTSTART:20260321T150000Z
DTEND:20260321T160000Z
X-MICROSOFT-CDO-ALLDAYEVENT:FALSE
SUMMARY:Malorie's Place hosts Art Therapy Classes (Children-adults)
DESCRIPTION:Macrame Rabbits a creative outlet for healing\, growth\, and self-expression. Our art therapy classes provide a safe space to release emotions\, reduce stress\, and connect with others through painting\, crafts\, and hands-on activities. No artistic skill is required just an open heart and a willingness to create.
X-ALT-DESC;FMTTYPE=text/html:Macrame Rabbits a creative outlet for healing\, growth\, and self-expression. Our art therapy classes provide a safe space to release emotions\, reduce stress\, and connect with others through painting\, crafts\, and hands-on activities. No artistic skill is required&mdash\;just an open heart and a willingness to create.
LOCATION:The Gathering Room 446 S Main Ave Maiden\, NC
UID:e.685.9307
SEQUENCE:3
DTSTAMP:20260424T164416Z
URL:http://members.catawbachamber.org/events/details/malorie-s-place-hosts-art-therapy-classes-children-adults-03-21-2026-9307
END:VEVENT

END:VCALENDAR
