BEGIN:VCALENDAR
VERSION:2.0
PRODID:-//ChamberMaster//Event Calendar 2.0//EN
METHOD:PUBLISH
X-PUBLISHED-TTL:P3D
REFRESH-INTERVAL:P3D
CALSCALE:GREGORIAN
BEGIN:VEVENT
DTSTART:20260302T190000Z
DTEND:20260302T220000Z
X-MICROSOFT-CDO-ALLDAYEVENT:FALSE
SUMMARY:Malorie's Place Hosts Blessing Room
DESCRIPTION:Blessing Room has daily basic needs for families having a hard time. All is Free!!!
X-ALT-DESC;FMTTYPE=text/html:Blessing Room has daily basic needs for families having a hard time. All is Free!!!
LOCATION:FREE!!!
UID:e.685.9305
SEQUENCE:3
DTSTAMP:20260420T084651Z
URL:http://members.catawbachamber.org/events/details/malorie-s-place-hosts-blessing-room-03-02-2026-9305
END:VEVENT

END:VCALENDAR
