BEGIN:VCALENDAR
VERSION:2.0
PRODID:-//ChamberMaster//Event Calendar 2.0//EN
METHOD:PUBLISH
X-PUBLISHED-TTL:P3D
REFRESH-INTERVAL:P3D
CALSCALE:GREGORIAN
BEGIN:VEVENT
DTSTART:20260316T180000Z
DTEND:20260316T210000Z
X-MICROSOFT-CDO-ALLDAYEVENT:FALSE
SUMMARY:Malorie's Place hosts Blessing Room
DESCRIPTION:Blessing Room has daily basic needs for families having a hard time. All is Free!!!
X-ALT-DESC;FMTTYPE=text/html:Blessing Room has daily basic needs for families having a hard time. All is Free!!!
LOCATION:Blessing Room Malorie's Place 446 S Main Ave Maiden\, NC
UID:e.685.9306
SEQUENCE:3
DTSTAMP:20260424T162550Z
URL:http://members.catawbachamber.org/events/details/malorie-s-place-hosts-blessing-room-03-16-2026-9306
END:VEVENT

END:VCALENDAR
