BEGIN:VCALENDAR
VERSION:2.0
PRODID:-//ChamberMaster//Event Calendar 2.0//EN
METHOD:PUBLISH
X-PUBLISHED-TTL:P3D
REFRESH-INTERVAL:P3D
CALSCALE:GREGORIAN
BEGIN:VEVENT
DTSTART:20260322T200000Z
DTEND:20260322T211500Z
X-MICROSOFT-CDO-ALLDAYEVENT:FALSE
SUMMARY:Malorie's Place hosts Depression\, Anxiety\, & Suicidal Ideations Group
DESCRIPTION:A supportive and non-judgmental group where individuals struggling with heavy emotions can find encouragement and understanding. Here\, you are not alone together we learn coping skills\, build resilience\, and lean on one another for strength and healing.
X-ALT-DESC;FMTTYPE=text/html:A supportive and non-judgmental group where individuals struggling with heavy emotions can find encouragement and understanding. Here\, you are not alone&mdash\;together we learn coping skills\, build resilience\, and lean on one another for strength and healing.
LOCATION:The Gathering Room 446 S Main Ave Maiden\, NC
UID:e.685.9308
SEQUENCE:3
DTSTAMP:20260424T162127Z
URL:http://members.catawbachamber.org/events/details/malorie-s-place-hosts-depression-anxiety-suicidal-ideations-group-03-22-2026-9308
END:VEVENT

END:VCALENDAR
