BEGIN:VCALENDAR
VERSION:2.0
PRODID:-//ChamberMaster//Event Calendar 2.0//EN
METHOD:PUBLISH
X-PUBLISHED-TTL:P3D
REFRESH-INTERVAL:P3D
CALSCALE:GREGORIAN
BEGIN:VEVENT
DTSTART:20260315T200000Z
DTEND:20260315T211500Z
X-MICROSOFT-CDO-ALLDAYEVENT:FALSE
SUMMARY:Malorie's Place hosts Freedom Tribe (6th-12th Grade)
DESCRIPTION:A special program for Teens facing emotional\, social\, and developmental challenges. Through mentorship\, creative activities\, and guided support\, Junior Warriors helps kids build resilience\, confidence\, and healthy connections while growing in a drug-free\, supportive community.
X-ALT-DESC;FMTTYPE=text/html:A special program for Teens facing emotional\, social\, and developmental challenges. Through mentorship\, creative activities\, and guided support\, Junior Warriors helps kids build resilience\, confidence\, and healthy connections while growing in a drug-free\, supportive community.
LOCATION:Malorie's Place 446 S Main Ave Maiden\, NC
UID:e.685.9304
SEQUENCE:3
DTSTAMP:20260424T163447Z
URL:http://members.catawbachamber.org/events/details/malorie-s-place-hosts-freedom-tribe-6th-12th-grade-03-15-2026-9304
END:VEVENT

END:VCALENDAR
