BEGIN:VCALENDAR
VERSION:2.0
PRODID:-//ChamberMaster//Event Calendar 2.0//EN
METHOD:PUBLISH
X-PUBLISHED-TTL:P3D
REFRESH-INTERVAL:P3D
CALSCALE:GREGORIAN
BEGIN:VEVENT
DTSTART:20260329T200000Z
DTEND:20260329T211500Z
X-MICROSOFT-CDO-ALLDAYEVENT:FALSE
SUMMARY:Malorie's Place hosts Grief & Divorce Support Group
DESCRIPTION:A safe and compassionate space for those experiencing the deep pain of loss\, whether through the passing of a loved one\, loss of friendship\, home\, job\, pet or the heartbreak of divorce. Together\, we share stories\, encourage healing\, and walk through the journey of rebuilding hope with faith and community support
X-ALT-DESC;FMTTYPE=text/html:A safe and compassionate space for those experiencing the deep pain of loss\, whether through the passing of a loved one\, loss of friendship\, home\, job\, pet or the heartbreak of divorce. Together\, we share stories\, encourage healing\, and walk through the journey of rebuilding hope with faith and community support
LOCATION:The Gathering Room 446 S Main Ave Maiden\, NC
UID:e.685.9311
SEQUENCE:3
DTSTAMP:20260424T162444Z
URL:http://members.catawbachamber.org/events/details/malorie-s-place-hosts-grief-divorce-support-group-03-29-2026-9311
END:VEVENT

END:VCALENDAR
