BEGIN:VCALENDAR
VERSION:2.0
PRODID:-//ChamberMaster//Event Calendar 2.0//EN
METHOD:PUBLISH
X-PUBLISHED-TTL:P3D
REFRESH-INTERVAL:P3D
CALSCALE:GREGORIAN
BEGIN:VEVENT
DTSTART:20260322T200000Z
DTEND:20260322T211500Z
X-MICROSOFT-CDO-ALLDAYEVENT:FALSE
SUMMARY:Malorie's Place hosts Junior Warriors (K–5th Grade)
DESCRIPTION:A special program for children facing emotional\, social\, and developmental challenges. Through mentorship\, creative activities\, and guided support\, Junior Warriors helps kids build resilience\, confidence\, and healthy connections while growing in a drug-free\, supportive community.
X-ALT-DESC;FMTTYPE=text/html:A special program for children facing emotional\, social\, and developmental challenges. Through mentorship\, creative activities\, and guided support\, Junior Warriors helps kids build resilience\, confidence\, and healthy connections while growing in a drug-free\, supportive community.
LOCATION:Malorie's Place 446 S Main Ave Maiden\, NC
UID:e.685.9309
SEQUENCE:3
DTSTAMP:20260424T164814Z
URL:http://members.catawbachamber.org/events/details/malorie-s-place-hosts-junior-warriors-k-5th-grade-03-22-2026-9309
END:VEVENT

END:VCALENDAR
