BEGIN:VCALENDAR
VERSION:2.0
PRODID:-//ChamberMaster//Event Calendar 2.0//EN
METHOD:PUBLISH
X-PUBLISHED-TTL:P3D
REFRESH-INTERVAL:P3D
CALSCALE:GREGORIAN
BEGIN:VEVENT
DTSTART:20260205T220000Z
DTEND:20260206T000000Z
X-MICROSOFT-CDO-ALLDAYEVENT:FALSE
SUMMARY:Osborne Real Estate Group hosts Connect For A Cause - The Corner Table
DESCRIPTION:We're excited to kick off the year with our first Connect For A Cause event of the season!\n\n\n\nPlease join us for an evening of connection\, community\, and giving back as we come together to support The Corner Table\, an organization making a meaningful impact right here in our community.\n\nThis event is free to attend\, and all donations collected both in person and online will go directly to The Corner Table to help further their mission of serving neighbors in need.\n\nWhy You Should Join Us:\n\n-Network & Connect: Meet local professionals\, friends\, and community members in a relaxed\, welcoming atmosphere.\n\n-Support a Local Cause: Every dollar raised directly supports The Corner Table and the incredible work they do for our community.\n\n-Build Strong Connections: Our mission is simple Helping Build a Strong Community Through Strong Connections.\n\nYou'll also have the opportunity to learn more about The Corner Table\, hear about their current initiatives\, and discover how you can get involved beyond the event.\n\nMark your calendars\, invite a friend\, and come be part of an evening that blends purpose with connection. Together\, we can make a real difference one relationship at a time.\n\nWe can't wait to see you there!
X-ALT-DESC;FMTTYPE=text/html:<p><span style="font-size:14px"><span style="font-family:arial\,helvetica\,sans-serif">We&rsquo\;re excited to kick off the year with our first&nbsp\;Connect For A Cause&nbsp\;event of the season!<br />\n<br />\nPlease join us for an evening of connection\, community\, and giving back as we come together to support&nbsp\;The Corner Table\, an organization making a meaningful impact right here in our community.</span></span></p>\n\n<p><span style="font-size:14px"><span style="font-family:arial\,helvetica\,sans-serif">This event is&nbsp\;free to attend\, and all donations collected&mdash\;both in person and online&mdash\;will go directly to&nbsp\;The Corner Table&nbsp\;to help further their mission of serving neighbors in need.</span></span></p>\n\n<h3><span style="font-size:14px"><span style="font-family:arial\,helvetica\,sans-serif">Why You Should Join Us:</span></span></h3>\n\n<p><span style="font-size:14px"><span style="font-family:arial\,helvetica\,sans-serif">-Network &amp\; Connect:&nbsp\;Meet local professionals\, friends\, and community members in a relaxed\, welcoming atmosphere.<br />\n-Support a Local Cause:&nbsp\;Every dollar raised directly supports The Corner Table and the incredible work they do for our community.<br />\n-Build Strong Connections:&nbsp\;Our mission is simple&mdash\;<em>Helping Build a Strong Community Through Strong Connections.</em></span></span></p>\n\n<p><span style="font-size:14px"><span style="font-family:arial\,helvetica\,sans-serif">You&rsquo\;ll also have the opportunity to learn more about The Corner Table\, hear about their current initiatives\, and discover how you can get involved beyond the event.</span></span></p>\n\n<p><span style="font-size:14px"><span style="font-family:arial\,helvetica\,sans-serif">Mark your calendars\, invite a friend\, and come be part of an evening that blends purpose with connection. Together\, we can make a real difference&mdash\;one relationship at a time.</span></span></p>\n\n<p><span style="font-size:14px"><span style="font-family:arial\,helvetica\,sans-serif">We can&rsquo\;t wait to see you there!</span></span></p>\n
LOCATION:Warehouse 18 Venues 18 2nd Street SE Hickory\, NC 28602
UID:e.685.9269
SEQUENCE:3
DTSTAMP:20260425T115421Z
URL:http://members.catawbachamber.org/events/details/osborne-real-estate-group-hosts-connect-for-a-cause-the-corner-table-9269
END:VEVENT

END:VCALENDAR
