BEGIN:VCALENDAR
VERSION:2.0
PRODID:-//ChamberMaster//Event Calendar 2.0//EN
METHOD:PUBLISH
X-PUBLISHED-TTL:P3D
REFRESH-INTERVAL:P3D
CALSCALE:GREGORIAN
BEGIN:VEVENT
DTSTART:20230328T160000Z
DTEND:20230328T171500Z
X-MICROSOFT-CDO-ALLDAYEVENT:FALSE
SUMMARY:Safe Harbor Safe People &. Boundaries Class (Daytime)
DESCRIPTION:In this12-week class\, you will learn to identify patterns in relationships and how to set loving but firm boundaries. This class combines materials from the Safe People and Boundaries books by Dr. Henry Cloud and Dr. John Townsend.
X-ALT-DESC;FMTTYPE=text/html:<span style="color:rgb(84\, 89\, 95)\; font-family:carme\,sans-serif\; font-size:15px">In this12-week class\, you will learn to identify patterns in relationships and how to set loving but firm boundaries. This class combines materials from the Safe People and Boundaries books by Dr. Henry Cloud and Dr. John Townsend.</span><br />\n<br />\n&nbsp\;
LOCATION:Safe Harbor Chloe Waldrop Taylor Renewal Center 112 2nd Ave SE Hickory NC 28602
UID:e.685.7617
SEQUENCE:3
DTSTAMP:20260422T054052Z
URL:http://members.catawbachamber.org/events/details/safe-harbor-safe-people-boundaries-class-daytime-03-28-2023-7617
END:VEVENT

END:VCALENDAR
