BEGIN:VCALENDAR
VERSION:2.0
PRODID:-//ChamberMaster//Event Calendar 2.0//EN
METHOD:PUBLISH
X-PUBLISHED-TTL:P3D
REFRESH-INTERVAL:P3D
CALSCALE:GREGORIAN
BEGIN:VEVENT
DTSTART:20210225T160000Z
DTEND:20210225T180000Z
X-MICROSOFT-CDO-ALLDAYEVENT:FALSE
SUMMARY:SCORE hosts Create Your Compelling Elevator Speech 2-25-2021
DESCRIPTION:Zoom Webinar\n\nThis is a FREE virtual webinar\n\nhttps://charlotte.score.org/event/create-your-compelling-elevator-speech-feb-25-2021\n Are you grabbing people's attention in the first 60 seconds when introducing yourself?\n\nAre you powerfully and clearly communicating your unique message?\n\nDo you find yourself stopped when asked "what do you do?"\n\nAs an entrepreneur or professional\, you're always selling yourself or your product. In those first few seconds people decide whether or not they want to learn more about your service and even if they want to do business with you .so you want to make that first impression count! If you want people to sit up and listen\, it starts with creating a compelling Elevator Speech that grabs their attention in the first 30-60 seconds. Your Elevator Speech is both an opportunity to promote your services and a way to separate yourself from the competition. It's what makes people want to know more about you.\n In this fast-paced session\, Rochelle Togo-Figa\, the Speaking & Sales Breakthrough Strategist\, will share the steps to creating a compelling and powerful Elevator Message that will quickly have people saying "Yes\, give me your business card. Let's sit down and talk!"\n\nAt the end of the session\, you'll learn \n\n  How to grab people's attention in the first 30-60 seconds.\n\n  What motivates people to take action.\n\n  The elements of creating a compelling message that will easily attract more clients.\n\n  How to create your own unique message.\n\n  How to deliver your elevator speech with confidence.
X-ALT-DESC;FMTTYPE=text/html:<p><span style="font-size:14px\;"><span style="font-family: arial\;">Zoom Webinar</span></span></p>\n\n<p><span style="font-size:14px\;"><span style="font-family: arial\;">This is a FREE virtual webinar</span></span></p>\n\n<p><span style="font-size:14px\;"><a href="https://charlotte.score.org/event/create-your-compelling-elevator-speech-feb-25-2021" style="text-decoration-line: none\;"><span style="color: rgb(17\, 85\, 204)\; font-family: arial\;">https://charlotte.score.org/event/create-your-compelling-elevator-speech-feb-25-2021</span></a></span></p>\n<span style="font-size:14px\;">&nbsp\;<span style="font-family: arial\;">Are you grabbing people&rsquo\;s attention in the first 60 seconds when introducing yourself?</span></span>\n\n<p><span style="font-size:14px\;"><span style="font-family: arial\;">Are you powerfully and clearly communicating your unique message?</span></span></p>\n\n<p><span style="font-size:14px\;"><span style="font-family: arial\;">Do you find yourself stopped when asked &ldquo\;what do you do?&rdquo\;</span></span></p>\n\n<p><span style="font-size:14px\;"><span style="font-family: arial\;">As an entrepreneur or professional\, you&rsquo\;re always selling yourself or your product. In those first few seconds people decide whether or not they want to learn more about your service and even if they want to do business with you&hellip\;.so you want to make that first impression count! If you want people to sit up and listen\, it starts with creating a compelling Elevator Speech that grabs their attention in the first 30-60 seconds. Your Elevator Speech is both an opportunity to promote your services and a way to separate yourself from the competition. It&rsquo\;s what makes people want to know more about you.</span></span></p>\n<span style="font-size:14px\;">&nbsp\;<span style="font-family: arial\;">In this fast-paced session\, Rochelle Togo-Figa\, the Speaking &amp\; Sales Breakthrough Strategist\, will share the steps to creating a compelling and powerful Elevator Message that will quickly have people saying &ldquo\;Yes\, give me your business card. Let&rsquo\;s sit down and talk!&rdquo\;</span></span>\n\n<p><span style="font-size:14px\;"><span style="font-family: arial\;">At the end of the session\, you&rsquo\;ll learn&hellip\;</span></span></p>\n\n<p><span style="font-size:14px\;"><span style="font-family: arial\;">&bull\; How to grab people&rsquo\;s attention in the first 30-60 seconds.</span></span></p>\n\n<p><span style="font-size:14px\;"><span style="font-family: arial\;">&bull\; What motivates people to take action.</span></span></p>\n\n<p><span style="font-size:14px\;"><span style="font-family: arial\;">&bull\; The elements of creating a compelling message that will easily attract more clients.</span></span></p>\n\n<p><span style="font-size:14px\;"><span style="font-family: arial\;">&bull\; How to create your own unique message.</span></span></p>\n\n<p><span style="font-size:14px\;"><span style="font-family: arial\;">&bull\; How to deliver your elevator speech with confidence.</span></span></p>\n<span style="font-size:14px\;"> &nbsp\;</span>\n\n<h1>&nbsp\;</h1>\n
LOCATION:Zoom webinar
UID:e.685.6783
SEQUENCE:3
DTSTAMP:20260426T001936Z
URL:http://members.catawbachamber.org/events/details/score-hosts-create-your-compelling-elevator-speech-2-25-2021-6783
END:VEVENT

END:VCALENDAR
