BEGIN:VCALENDAR
VERSION:2.0
PRODID:-//ChamberMaster//Event Calendar 2.0//EN
METHOD:PUBLISH
X-PUBLISHED-TTL:P3D
REFRESH-INTERVAL:P3D
CALSCALE:GREGORIAN
BEGIN:VEVENT
DTSTART:20201210T210000Z
DTEND:20201210T230000Z
X-MICROSOFT-CDO-ALLDAYEVENT:FALSE
SUMMARY:SCORE hosts Reverse Goal Setting 12-10-2020
DESCRIPTION:Reverse Goal Setting\n\nIt's time you take control of your business like never before. If you've ever found yourself in February and your goals are already a distant memory or you're disappointed as you look back in December on what you didn't accomplish (but had planned to)\, you aren't alone. Goals shouldn't be that way. Don't get caught up in typical goal setting practices...it's time to reverse your goals and watch them come alive! Stacey Brown Randall of the Goal Finishers Club will walk you through a process to see your goals in a whole new way. Her clients amaze themselves on what they are able to accomplish following her Reverse Goal Setting process.\n\nHere's what you'll learn during this session:\n\nSet goals that actually matter and provide a direction to where you want to go long-term\n\nConnect your goals to your why  giving you a better chance to actually accomplish them\n\nIdentify major milestones\, layout your roadmap and create your action plan (so crushing your goals actually happen!)
X-ALT-DESC;FMTTYPE=text/html:<p style="margin-right:4pt"><span style="font-size:14px\;"><span style="font-family:arial\;"><strong>Reverse Goal Setting</strong></span></span></p>\n\n<p><span style="font-size:14px\;"><span style="font-family:arial\;"><strong>It&#39\;s time you take control of your business like never before. If you&rsquo\;ve ever found yourself in February and your goals are already a distant memory or you&rsquo\;re disappointed as you look back in December on what you didn&rsquo\;t accomplish (but had planned to)\, you aren&rsquo\;t alone. Goals shouldn&rsquo\;t be that way. Don&#39\;t get caught up in typical goal setting practices...it&#39\;s time to reverse your goals and watch them come alive! Stacey Brown Randall of the Goal Finishers Club will walk you through a process to see your goals in a whole new way. Her clients amaze themselves on what they are able to accomplish following her Reverse Goal Setting process.</strong></span></span></p>\n\n<p><span style="font-size:14px\;"><span style="font-family:arial\;"><strong>Here&rsquo\;s what you&rsquo\;ll learn during this session:</strong></span></span></p>\n\n<p><span style="font-size:14px\;"><span style="font-family:arial\;"><strong>Set goals that actually matter and provide a direction to where you want to go long-term</strong></span></span></p>\n\n<p><span style="font-size:14px\;"><span style="font-family:arial\;"><strong>Connect your goals to your why&hellip\; giving you a better chance to actually accomplish them</strong></span></span></p>\n\n<p><span style="font-size:14px\;"><span style="font-family:arial\;"><strong>Identify major milestones\, layout your roadmap and create your action plan (so crushing your goals actually happen!)</strong></span></span></p>\n\n<div>&nbsp\;</div>\n
LOCATION:Zoom virtual webinar\, login details provided upon registration
UID:e.685.6736
SEQUENCE:3
DTSTAMP:20260422T194431Z
URL:http://members.catawbachamber.org/events/details/score-hosts-reverse-goal-setting-12-10-2020-6736
END:VEVENT

END:VCALENDAR
