BEGIN:VCALENDAR
VERSION:2.0
PRODID:-//ChamberMaster//Event Calendar 2.0//EN
METHOD:PUBLISH
X-PUBLISHED-TTL:P3D
REFRESH-INTERVAL:P3D
CALSCALE:GREGORIAN
BEGIN:VEVENT
DTSTART;VALUE=DATE:20230805
DTEND;VALUE=DATE:20230806
TRANSP:TRANSPARENT
X-MICROSOFT-CDO-ALLDAYEVENT:TRUE
SUMMARY:Mint & Modern hosts Sip & Shop Every Saturday through the Summer
DESCRIPTION:Join us over at Mint + Modern every Saturday for a complimentary glass of wine while you shop at our store. Located inside the Shoppes on the Square in downtown Hickory\, MM offers boutique fashion\, graphic tees\, jewelry\, accessories\, and many full-service design services such as custom graphic tees. Head on over every Saturday\, 12-5\, until August 26\, 2023\, for your complimentary glass of wine\, unique styles\, and service with a smile!
X-ALT-DESC;FMTTYPE=text/html:<span style="font-size:14px\;"><span style="font-family:arial\;">Join us over at Mint + Modern every Saturday for a complimentary glass of wine while you shop at our store. Located inside the Shoppes on the Square in downtown Hickory\, MM offers boutique fashion\, graphic tees\, jewelry\, accessories\, and many full-service design services such as custom graphic tees. Head on over every Saturday\, 12-5\, until August 26\, 2023\, for your complimentary glass of wine\, unique styles\, and service with a smile!&nbsp\;</span></span>
LOCATION:Mint + Modern (Located in the Shoppes on the Square) 246 Union Square NW Ste E Hickory\, NC 28601
UID:e.685.8225
SEQUENCE:3
DTSTAMP:20260423T160256Z
URL:http://members.catawbachamber.org/events/details/sip-shop-every-saturday-through-the-summer-08-05-2023-8225
END:VEVENT

END:VCALENDAR
