BEGIN:VCALENDAR
VERSION:2.0
PRODID:-//ChamberMaster//Event Calendar 2.0//EN
METHOD:PUBLISH
X-PUBLISHED-TTL:P3D
REFRESH-INTERVAL:P3D
CALSCALE:GREGORIAN
BEGIN:VEVENT
DTSTART:20260328T133000Z
DTEND:20260328T160000Z
X-MICROSOFT-CDO-ALLDAYEVENT:FALSE
SUMMARY:Sipe's Orchard hosts Home Bunny Run
DESCRIPTION:Join us for the Bunny Run to benefit Sipe's Orchard Home! Ride with us as we follow Fern the Easter Bunny down to Sipe's Orchard Home to watch the children hunt for Easter Eggs.\n\nRide starts at Blue Ridge Harley-Davidson.\n\nRegistration at 9:30 a.m. | Kickstands Up at 10:30 a.m.\n\nRide Fee: $20 Singles / $25 Doubles OR bring a donation of items from the Sipe's Wish List in lieu of ride fee.\n\nWe look forward to a great ride with all proceeds benefiting the children and youth Growing Futures at Sipe's Orchard Home!
X-ALT-DESC;FMTTYPE=text/html:<div>Join us for the <strong>Bunny Run to benefit Sipe&#39\;s Orchard Home</strong>! Ride with us as we follow Fern the Easter Bunny down to Sipe&#39\;s Orchard Home to watch the children hunt for Easter Eggs.</div>\n\n<div>Ride starts at <strong>Blue Ridge Harley-Davidson</strong>.<br />\n<strong>Registration</strong> at 9:30 a.m. | <strong>Kickstands Up</strong> at 10:30 a.m.<br />\n<strong>Ride Fee:</strong> $20 Singles / $25 Doubles OR bring a donation of items from the Sipe&#39\;s Wish List in lieu of ride fee.</div>\n\n<div>We look forward to a great ride with all proceeds benefiting the children and youth Growing Futures at Sipe&#39\;s Orchard Home!</div>\n
LOCATION:Blue Ridge Harley-Davidson - 2002 13th Ave. Dr. SE\, Hickory\, NC 28602
UID:e.685.9314
SEQUENCE:3
DTSTAMP:20260424T161939Z
URL:http://members.catawbachamber.org/events/details/sipe-s-orchard-hosts-home-bunny-run-9314
END:VEVENT

END:VCALENDAR
