BEGIN:VCALENDAR
VERSION:2.0
PRODID:-//ChamberMaster//Event Calendar 2.0//EN
METHOD:PUBLISH
X-PUBLISHED-TTL:P3D
REFRESH-INTERVAL:P3D
CALSCALE:GREGORIAN
BEGIN:VEVENT
DTSTART:20230916T233000Z
DTEND:20230917T013000Z
X-MICROSOFT-CDO-ALLDAYEVENT:FALSE
SUMMARY:Western Piedmont Symphony hosts Foothills Pops: DISNEY IN CONCERT-A DREAM IS A WISH 9-16-2023
DESCRIPTION:DISNEY IN CONCERT-A Dream is a Wish transports audiences into the musical world of classic and contemporary Disney Animated Feature films to discover that dreams really do come true. The magic of Disney storytelling comes to life once again and reminds us anew that anything is possible\, "  if you keep on believing\, the dream that you wish will come true." Presentation authorized by Disney Concerts   All rights reserved.\n\n\n\nJoin us as we awaken a little mermaid who longs to be human\, a lion cub who struggles to find his place in the circle of life\, and two sisters who wish to warm a frozen relationship. The stories of The Little Mermaid\, The Lion King\, Beauty and the Beast\, Frozen\, Aladdin and more\, are told through the talents of four Broadway-caliber singers\, original Disney film footage and sweeping orchestral scores performed by Western Piedmont Symphony and conducted by Maestro Matthew Troy.  The magic of Disney storytelling comes to life once again and reminds us anew that anything is possible\, " if you keep on believing\, the dream that you wish will come true."
X-ALT-DESC;FMTTYPE=text/html:<div><span style="font-size:14px\;"><span style="font-family:arial\;"><strong>DISNEY IN CONCERT-A Dream is a Wish</strong> transports audiences into the musical world of classic and contemporary Disney Animated Feature films to discover that dreams really do come true. The magic of Disney storytelling comes to life once again and reminds us anew that anything is possible\, &ldquo\;&hellip\; if you keep on believing\, the dream that you wish will come true.&rdquo\; Presentation authorized by Disney Concerts &copy\; All rights reserved.</span></span></div>\n\n<div><br />\n<span style="font-size:14px\;"><span style="font-family:arial\;">Join us as we awaken a little mermaid who longs to be human\, a lion cub who struggles to find his place in the circle of life\, and two sisters who wish to warm a frozen relationship. The stories of The Little Mermaid\, The Lion King\, Beauty and the Beast\, Frozen\, Aladdin and more\, are told through the talents of four Broadway-caliber singers\, original Disney film footage and sweeping orchestral scores performed by Western Piedmont Symphony and conducted by Maestro Matthew Troy.&nbsp\; The magic of Disney storytelling comes to life once again and reminds us anew that anything is possible\, &ldquo\;&hellip\;if you keep on believing\, the dream that you wish will come true.&rdquo\;</span></span></div>\n
LOCATION:J.E. Broyhill Civic Center (On Hwy 321\, Lenoir\, NC) 1913 Hickory Blvd Lenoir\, NC 28645
UID:e.685.8493
SEQUENCE:3
DTSTAMP:20260423T142107Z
URL:http://members.catawbachamber.org/events/details/western-piedmont-symphony-hosts-foothills-pops-disney-in-concert-a-dream-is-a-wish-9-16-2023-8493
END:VEVENT

END:VCALENDAR
