BEGIN:VCALENDAR
VERSION:2.0
PRODID:-//ChamberMaster//Event Calendar 2.0//EN
METHOD:PUBLISH
X-PUBLISHED-TTL:P3D
REFRESH-INTERVAL:P3D
CALSCALE:GREGORIAN
BEGIN:VEVENT
DTSTART;VALUE=DATE:20260315
DTEND;VALUE=DATE:20260316
TRANSP:TRANSPARENT
X-MICROSOFT-CDO-ALLDAYEVENT:TRUE
SUMMARY:Children's Advocacy & Protection Center hosts Hops for Hope Benefiting the CAPC | City Walk Brewing
DESCRIPTION:Hops for Hope Hosted by the Children's Advocacy & Protection Center in partnership with City Walk Brewing Sunday\, March 15th | Live music from 1:00 4:00 PM An afternoon of drinks for a cause featuring live music by Men in Black PLUS Nicole. We'll also be raffling off Hickory FC season tickets\, and the National Championship Trophy will be on display. Proceeds will benefit CAPC all day at Main Chick\, Cranford Brothers BBQ\, and City Walk Brewing\, so supporters can drop in anytime throughout the day to participate.
X-ALT-DESC;FMTTYPE=text/html:Hops for Hope Hosted by the Children&rsquo\;s Advocacy &amp\; Protection Center in partnership with City Walk Brewing Sunday\, March 15th | Live music from 1:00&ndash\;4:00 PM An afternoon of drinks for a cause featuring live music by Men in Black PLUS Nicole. We&rsquo\;ll also be raffling off Hickory FC season tickets\, and the National Championship Trophy will be on display. Proceeds will benefit CAPC all day at Main Chick\, Cranford Brothers BBQ\, and City Walk Brewing\, so supporters can drop in anytime throughout the day to participate.
LOCATION:City Walk Brewing
UID:e.685.9295
SEQUENCE:3
DTSTAMP:20260421T082215Z
URL:https://members.catawbachamber.org/events/details/children-s-advocacy-protection-center-hosts-hops-for-hope-benefiting-the-capc-city-walk-brewing-9295
END:VEVENT

END:VCALENDAR
