BEGIN:VCALENDAR
VERSION:2.0
PRODID:-//ChamberMaster//Event Calendar 2.0//EN
METHOD:PUBLISH
X-PUBLISHED-TTL:P3D
REFRESH-INTERVAL:P3D
CALSCALE:GREGORIAN
BEGIN:VEVENT
DTSTART:20240409T130000Z
DTEND:20240409T143000Z
X-MICROSOFT-CDO-ALLDAYEVENT:FALSE
SUMMARY:CVCC Small Business Center: Budgeting to Fully Fund Your Overhead- Online 4-9-2024
DESCRIPTION:This session will identify the building blocks of a strong budget and explain how nonprofits can easily raise the dollars needed to cover overhead costs. We will discuss how proper budgeting will propel grant proposals to success and how to use messaging to raise these much-needed funds. You'll see how to accurately describe\, budget\, and properly package your programs and projects to effectively secure funds from diversified funding streams. Takeaways:   How to write a realistic budget for your organization\, programs\, and projects   The 3 items most budgets are missing   Steps to diversifying your funding streams   How to express needs to prospective donors in ways that will ignite their passion to support your work   The top 3 metrics you should analyze regularly from your budget\n\nSpeaker(s): Mandy Pearce\, Funding for Good\, Inc.
X-ALT-DESC;FMTTYPE=text/html:<p>This session will identify the building blocks of a strong budget and explain how nonprofits can easily raise the dollars needed to cover overhead costs. We will discuss how proper budgeting will propel grant proposals to success and how to use messaging to raise these much-needed funds. You&rsquo\;ll see how to accurately describe\, budget\, and properly package your programs and projects to effectively secure funds from diversified funding streams. Takeaways: &bull\; How to write a realistic budget for your organization\, programs\, and projects &bull\; The 3 items most budgets are missing &bull\; Steps to diversifying your funding streams &bull\; How to express needs to prospective donors in ways that will ignite their passion to support your work &bull\; The top 3 metrics you should analyze regularly from your budget</p>\n\n<p>Speaker(s): Mandy Pearce\, Funding for Good\, Inc.</p>\n
LOCATION:Online
UID:e.685.8810
SEQUENCE:3
DTSTAMP:20260423T150515Z
URL:https://members.catawbachamber.org/events/details/cvcc-small-business-center-budgeting-to-fully-fund-your-overhead-online-4-9-2024-8810
END:VEVENT

END:VCALENDAR
