BEGIN:VCALENDAR
VERSION:2.0
PRODID:-//ChamberMaster//Event Calendar 2.0//EN
METHOD:PUBLISH
X-PUBLISHED-TTL:P3D
REFRESH-INTERVAL:P3D
CALSCALE:GREGORIAN
BEGIN:VEVENT
DTSTART:20240408T190000Z
DTEND:20240408T210000Z
X-MICROSOFT-CDO-ALLDAYEVENT:FALSE
SUMMARY:CVCC Small Business Center: Marketing Your Business for Success - Online 4-8-2024
DESCRIPTION:Marketing for the 21st Century small business is more dynamic and challenging than ever. Discover how to most effectively and efficiently use the many marketing tools available. Gain insights to understand and reach your customer\, analyze your industry and business environment and differentiate between branding\, advertising\, and grassroots marketing techniques. Explore the components of an effective marketing plan in this comprehensive seminar.\n\nSpeaker(s): Matt Rudisill
X-ALT-DESC;FMTTYPE=text/html:<p>Marketing for the 21st Century small business is more dynamic and challenging than ever. Discover how to most effectively and efficiently use the many marketing tools available. Gain insights to understand and reach your customer\, analyze your industry and business environment and differentiate between branding\, advertising\, and grassroots marketing techniques. Explore the components of an effective marketing plan in this comprehensive seminar.</p>\n\n<p>Speaker(s): Matt Rudisill</p>\n
LOCATION:Online
UID:e.685.8809
SEQUENCE:3
DTSTAMP:20260423T145357Z
URL:https://members.catawbachamber.org/events/details/cvcc-small-business-center-marketing-your-business-for-success-online-4-8-2024-8809
END:VEVENT

END:VCALENDAR
