BEGIN:VCALENDAR
VERSION:2.0
PRODID:-//ChamberMaster//Event Calendar 2.0//EN
METHOD:PUBLISH
X-PUBLISHED-TTL:P3D
REFRESH-INTERVAL:P3D
CALSCALE:GREGORIAN
BEGIN:VEVENT
DTSTART:20240613T220000Z
DTEND:20240614T000000Z
X-MICROSOFT-CDO-ALLDAYEVENT:FALSE
SUMMARY:Hart Square Foundation hosts Heritage Music Series featuring E'Lon JD 6-13-2024
DESCRIPTION:Celebrate the rich heritage of American music at Hart Square every Thursday in June. This series focuses explicitly on original musicians and songwriters who are inspired by traditions of the past. The second concert will feature E'Lon JD\, a progressive soul artist\, bass player\, songwriter\, and educator. His sound combines soul\, funk\, jazz\, and rock. E'Lon will be performing with is trio at Hart Square. Saniya Bennett\, a student from Maiden\, NC who creates her own music in funk and rock styles\, will open for E'Lon JD.
X-ALT-DESC;FMTTYPE=text/html:<span style="font-size:14px\;"><span style="font-family:arial\;">Celebrate the rich heritage of American music at Hart Square every Thursday in June. This series focuses explicitly on original musicians and songwriters who are inspired by traditions of the past. The second concert will feature E&#39\;Lon JD\, a progressive soul artist\, bass player\, songwriter\, and educator. His sound combines soul\, funk\, jazz\, and rock. E&#39\;Lon will be performing with is trio at Hart Square. Saniya Bennett\, a student from Maiden\, NC who creates her own music in funk and rock styles\, will open for E&#39\;Lon JD.</span></span>
LOCATION:Hart Square 5055 Hope Road Vale\, NC 28168
UID:e.685.8890
SEQUENCE:3
DTSTAMP:20260423T003651Z
URL:https://members.catawbachamber.org/events/details/hart-square-foundation-hosts-heritage-music-series-featuring-e-lon-jd-6-13-2024-8890
END:VEVENT

END:VCALENDAR
