BEGIN:VCALENDAR
VERSION:2.0
PRODID:-//ChamberMaster//Event Calendar 2.0//EN
METHOD:PUBLISH
X-PUBLISHED-TTL:P3D
REFRESH-INTERVAL:P3D
CALSCALE:GREGORIAN
BEGIN:VEVENT
DTSTART:20260507T140000Z
DTEND:20260507T180000Z
X-MICROSOFT-CDO-ALLDAYEVENT:FALSE
SUMMARY:Vitality Anti-Aging Center Hosts a Celebrate the Women Who Raised Us- Mother’s Day Pop-Up Event
DESCRIPTION:Join us for a special pop-up experience featuring:\n\nBuild Your Own Bouquet\n\nSweet Treats\n\nExclusive Event Savings\n\nThursday\, May 7 | 10 AM 2 PM\n\nReserve for $25\n\nEnjoy $50 to spend on products or services at the event.
X-ALT-DESC;FMTTYPE=text/html:<p>Join us for a special pop-up experience featuring:</p>\n\n<p>Build Your Own Bouquet<br />\nSweet Treats<br />\nExclusive Event Savings</p>\n\n<p><strong>Thursday\, May 7 | 10 AM&ndash\;2 PM</strong></p>\n\n<p>Reserve for <strong>$25</strong><br />\nEnjoy <strong>$50 to spend</strong> on products or services at the event.</p>\n
LOCATION:Vitality Anti-Aging Center 74 8th Street SE\, Suite 101 Hickory\, NC 28602
UID:e.685.9330
SEQUENCE:3
DTSTAMP:20260424T171856Z
URL:https://members.catawbachamber.org/events/details/vitality-anti-aging-center-hosts-a-celebrate-the-women-who-raised-us-mother-s-day-pop-up-event-9330
END:VEVENT

END:VCALENDAR
